BEGIN:VCALENDAR
VERSION:2.0
PRODID:-//Homeschool Iowa - ECPv6.15.20//NONSGML v1.0//EN
CALSCALE:GREGORIAN
METHOD:PUBLISH
X-ORIGINAL-URL:https://homeschooliowa.org
X-WR-CALDESC:Events for Homeschool Iowa
REFRESH-INTERVAL;VALUE=DURATION:PT1H
X-Robots-Tag:noindex
X-PUBLISHED-TTL:PT1H
BEGIN:VTIMEZONE
TZID:America/Chicago
BEGIN:DAYLIGHT
TZOFFSETFROM:-0600
TZOFFSETTO:-0500
TZNAME:CDT
DTSTART:20250309T080000
END:DAYLIGHT
BEGIN:STANDARD
TZOFFSETFROM:-0500
TZOFFSETTO:-0600
TZNAME:CST
DTSTART:20251102T070000
END:STANDARD
BEGIN:DAYLIGHT
TZOFFSETFROM:-0600
TZOFFSETTO:-0500
TZNAME:CDT
DTSTART:20260308T080000
END:DAYLIGHT
BEGIN:STANDARD
TZOFFSETFROM:-0500
TZOFFSETTO:-0600
TZNAME:CST
DTSTART:20261101T070000
END:STANDARD
BEGIN:DAYLIGHT
TZOFFSETFROM:-0600
TZOFFSETTO:-0500
TZNAME:CDT
DTSTART:20270314T080000
END:DAYLIGHT
BEGIN:STANDARD
TZOFFSETFROM:-0500
TZOFFSETTO:-0600
TZNAME:CST
DTSTART:20271107T070000
END:STANDARD
END:VTIMEZONE
BEGIN:VEVENT
DTSTART;TZID=America/Chicago:20260530T100000
DTEND;TZID=America/Chicago:20260530T130000
DTSTAMP:20260422T094222
CREATED:20260410T042035Z
LAST-MODIFIED:20260410T161323Z
UID:21151-1780135200-1780146000@homeschooliowa.org
SUMMARY:Used Books + Curriculum Sale
DESCRIPTION:Used Books + Curriculum Sale\nMark your calendar to shop a multi-family sale with used books\, new/lightly-used homeschool curriculum\, school supplies\, games\, and more! \nEnjoy coffee and homemade treats while you browse. \nWHEN: May 30\, 2026 from 10:00am-1:00pm \nWHERE: Lifestream Brain + Body Clinic\, 1975 N Ankeny Blvd\, Ankeny \nCash & Venmo accepted.
URL:https://homeschooliowa.org/event/used-books-curriculum-sale/
LOCATION:Brain + Body Clinic\, 1975 N Ankeny Blvd\, Ankeny\, IA\, 50023\, United States
ATTACH;FMTTYPE=image/png:https://homeschooliowa.org/wp-content/uploads/2026/04/Used-Books-Curriculum-Sale.png
END:VEVENT
END:VCALENDAR